BEGIN:VCALENDAR
VERSION:2.0
PRODID:-//Örnsbergs Scoutkår - ECPv6.15.17//NONSGML v1.0//EN
CALSCALE:GREGORIAN
METHOD:PUBLISH
X-WR-CALNAME:Örnsbergs Scoutkår
X-ORIGINAL-URL:https://www.ornsberg.org
X-WR-CALDESC:Händelser för Örnsbergs Scoutkår
REFRESH-INTERVAL;VALUE=DURATION:PT1H
X-Robots-Tag:noindex
X-PUBLISHED-TTL:PT1H
BEGIN:VTIMEZONE
TZID:Europe/Stockholm
BEGIN:DAYLIGHT
TZOFFSETFROM:+0100
TZOFFSETTO:+0200
TZNAME:CEST
DTSTART:20250330T010000
END:DAYLIGHT
BEGIN:STANDARD
TZOFFSETFROM:+0200
TZOFFSETTO:+0100
TZNAME:CET
DTSTART:20251026T010000
END:STANDARD
BEGIN:DAYLIGHT
TZOFFSETFROM:+0100
TZOFFSETTO:+0200
TZNAME:CEST
DTSTART:20260329T010000
END:DAYLIGHT
BEGIN:STANDARD
TZOFFSETFROM:+0200
TZOFFSETTO:+0100
TZNAME:CET
DTSTART:20261025T010000
END:STANDARD
BEGIN:DAYLIGHT
TZOFFSETFROM:+0100
TZOFFSETTO:+0200
TZNAME:CEST
DTSTART:20270328T010000
END:DAYLIGHT
BEGIN:STANDARD
TZOFFSETFROM:+0200
TZOFFSETTO:+0100
TZNAME:CET
DTSTART:20271031T010000
END:STANDARD
BEGIN:DAYLIGHT
TZOFFSETFROM:+0100
TZOFFSETTO:+0200
TZNAME:CEST
DTSTART:20280326T010000
END:DAYLIGHT
BEGIN:STANDARD
TZOFFSETFROM:+0200
TZOFFSETTO:+0100
TZNAME:CET
DTSTART:20281029T010000
END:STANDARD
END:VTIMEZONE
BEGIN:VEVENT
DTSTART;VALUE=DATE:20260423
DTEND;VALUE=DATE:20260424
DTSTAMP:20260423T101329
CREATED:20250428T001211Z
LAST-MODIFIED:20260422T204107Z
UID:1343614-1776902400-1776988799@www.ornsberg.org
SUMMARY:S:t Georgsdagen
DESCRIPTION:
URL:https://www.ornsberg.org/kalender/st-georgsdagen-5/
CATEGORIES:Kåren
END:VEVENT
BEGIN:VEVENT
DTSTART;TZID=Europe/Stockholm:20260507T180000
DTEND;TZID=Europe/Stockholm:20260507T210000
DTSTAMP:20260423T101329
CREATED:20260329T182711Z
LAST-MODIFIED:20260422T204112Z
UID:1350653-1778176800-1778187600@www.ornsberg.org
SUMMARY:Kårstyrelsemöte (KS)
DESCRIPTION:
URL:https://www.ornsberg.org/kalender/karstyrelesemote-ks/
LOCATION:Scouterna\, Instrumentvägen 19\, 126 12 Hägersten\, Sverige
CATEGORIES:Kåren
END:VEVENT
BEGIN:VEVENT
DTSTART;TZID=Europe/Stockholm:20260509T090000
DTEND;TZID=Europe/Stockholm:20260509T170000
DTSTAMP:20260423T101329
CREATED:20251118T072709Z
LAST-MODIFIED:20260422T204117Z
UID:1350463-1778317200-1778346000@www.ornsberg.org
SUMMARY:Scouternas Dag 2026
DESCRIPTION:
URL:https://www.ornsberg.org/kalender/scouternas-dag-2026/
LOCATION:Hagaparken\, Hagalund\, Solna\, Sverige
CATEGORIES:Kåren
END:VEVENT
BEGIN:VEVENT
DTSTART;TZID=Europe/Stockholm:20260519T183000
DTEND;TZID=Europe/Stockholm:20260519T203000
DTSTAMP:20260423T101329
CREATED:20260213T121159Z
LAST-MODIFIED:20260422T204121Z
UID:1350580-1779215400-1779222600@www.ornsberg.org
SUMMARY:Avdelningsledarråd (ALR)
DESCRIPTION:
URL:https://www.ornsberg.org/kalender/avdelningsledarrad-alr-18/
LOCATION:Scouterna\, Instrumentvägen 19\, 126 12 Hägersten\, Sverige
CATEGORIES:Kåren
END:VEVENT
BEGIN:VEVENT
DTSTART;TZID=Europe/Stockholm:20260602T180000
DTEND;TZID=Europe/Stockholm:20260602T210000
DTSTAMP:20260423T101329
CREATED:20260329T182732Z
LAST-MODIFIED:20260422T204126Z
UID:1350654-1780423200-1780434000@www.ornsberg.org
SUMMARY:Kårstyrelsemöte (KS)
DESCRIPTION:
URL:https://www.ornsberg.org/kalender/karstyrelsemote-ks-32/
LOCATION:Scouterna\, Instrumentvägen 19\, 126 12 Hägersten\, Sverige
CATEGORIES:Kåren
END:VEVENT
BEGIN:VEVENT
DTSTART;VALUE=DATE:20260713
DTEND;VALUE=DATE:20260724
DTSTAMP:20260423T101329
CREATED:20251120T073646Z
LAST-MODIFIED:20260422T204129Z
UID:1350476-1783900800-1784851199@www.ornsberg.org
SUMMARY:LoL EUROPA 2026
DESCRIPTION:
URL:https://www.ornsberg.org/kalender/lol-europa-2026/
CATEGORIES:Kåren
END:VEVENT
BEGIN:VEVENT
DTSTART;VALUE=DATE:20260815
DTEND;VALUE=DATE:20260817
DTSTAMP:20260423T101329
CREATED:20260126T100634Z
LAST-MODIFIED:20260422T204132Z
UID:1350554-1786752000-1786924799@www.ornsberg.org
SUMMARY:Höstkickoff 2026
DESCRIPTION:
URL:https://www.ornsberg.org/kalender/hostkickoff-2026/
CATEGORIES:Kåren
END:VEVENT
BEGIN:VEVENT
DTSTART;TZID=Europe/Stockholm:20260926T090000
DTEND;TZID=Europe/Stockholm:20260926T170000
DTSTAMP:20260423T101329
CREATED:20251118T072713Z
LAST-MODIFIED:20260422T204136Z
UID:1350465-1790413200-1790442000@www.ornsberg.org
SUMMARY:Scouternas Höstdag 2026
DESCRIPTION:
URL:https://www.ornsberg.org/kalender/scouternas-hostdag-2026/
LOCATION:Kanaanbadet\, 168 44 Bromma\, Sverige
CATEGORIES:Kåren
END:VEVENT
BEGIN:VEVENT
DTSTART;VALUE=DATE:20261010
DTEND;VALUE=DATE:20261012
DTSTAMP:20260423T101329
CREATED:20251118T072718Z
LAST-MODIFIED:20260422T204141Z
UID:1350467-1791590400-1791763199@www.ornsberg.org
SUMMARY:Scouternas Natt 2026
DESCRIPTION:
URL:https://www.ornsberg.org/kalender/scouternas-natt-2026/
LOCATION:Kärsön\, Drottningholm\, Sverige
CATEGORIES:Kåren
END:VEVENT
BEGIN:VEVENT
DTSTART;TZID=Europe/Stockholm:20261117T183000
DTEND;TZID=Europe/Stockholm:20261117T210000
DTSTAMP:20260423T101329
CREATED:20251122T075212Z
LAST-MODIFIED:20260422T204145Z
UID:1350480-1794940200-1794949200@www.ornsberg.org
SUMMARY:TOIS Stormöte 2026
DESCRIPTION:
URL:https://www.ornsberg.org/kalender/tois-stormote-2026/
LOCATION:Scouterna\, Instrumentvägen 19\, 126 12 Hägersten\, Sverige
CATEGORIES:Kåren
END:VEVENT
BEGIN:VEVENT
DTSTART;VALUE=DATE:20261208
DTEND;VALUE=DATE:20261209
DTSTAMP:20260423T101329
CREATED:20251213T101233Z
LAST-MODIFIED:20260422T204200Z
UID:1350505-1796688000-1796774399@www.ornsberg.org
SUMMARY:Årsdagen
DESCRIPTION:Kårens födelsedag\, Örnsbergs Scoutkår grundades 1957
URL:https://www.ornsberg.org/kalender/arsdagen-6/
CATEGORIES:Kåren
END:VEVENT
BEGIN:VEVENT
DTSTART;VALUE=DATE:20270222
DTEND;VALUE=DATE:20270223
DTSTAMP:20260423T101329
CREATED:20260227T135746Z
LAST-MODIFIED:20260422T204203Z
UID:1350608-1803254400-1803340799@www.ornsberg.org
SUMMARY:World Thinking Day & Founder's Day
DESCRIPTION:
URL:https://www.ornsberg.org/kalender/world-thinking-day-founders-day-6/
CATEGORIES:Kåren
END:VEVENT
END:VCALENDAR