BEGIN:VCALENDAR
VERSION:2.0
PRODID:-//Örnsbergs Scoutkår - ECPv6.15.20//NONSGML v1.0//EN
CALSCALE:GREGORIAN
METHOD:PUBLISH
X-WR-CALNAME:Örnsbergs Scoutkår
X-ORIGINAL-URL:https://www.ornsberg.org
X-WR-CALDESC:Händelser för Örnsbergs Scoutkår
REFRESH-INTERVAL;VALUE=DURATION:PT1H
X-Robots-Tag:noindex
X-PUBLISHED-TTL:PT1H
BEGIN:VTIMEZONE
TZID:Europe/Stockholm
BEGIN:DAYLIGHT
TZOFFSETFROM:+0100
TZOFFSETTO:+0200
TZNAME:CEST
DTSTART:20250330T010000
END:DAYLIGHT
BEGIN:STANDARD
TZOFFSETFROM:+0200
TZOFFSETTO:+0100
TZNAME:CET
DTSTART:20251026T010000
END:STANDARD
BEGIN:DAYLIGHT
TZOFFSETFROM:+0100
TZOFFSETTO:+0200
TZNAME:CEST
DTSTART:20260329T010000
END:DAYLIGHT
BEGIN:STANDARD
TZOFFSETFROM:+0200
TZOFFSETTO:+0100
TZNAME:CET
DTSTART:20261025T010000
END:STANDARD
BEGIN:DAYLIGHT
TZOFFSETFROM:+0100
TZOFFSETTO:+0200
TZNAME:CEST
DTSTART:20270328T010000
END:DAYLIGHT
BEGIN:STANDARD
TZOFFSETFROM:+0200
TZOFFSETTO:+0100
TZNAME:CET
DTSTART:20271031T010000
END:STANDARD
END:VTIMEZONE
BEGIN:VEVENT
DTSTART;TZID=Europe/Stockholm:20260426T190000
DTEND;TZID=Europe/Stockholm:20260426T200000
DTSTAMP:20260426T012934
CREATED:20260425T052125Z
LAST-MODIFIED:20260425T134117Z
UID:1350696-1777230000-1777233600@www.ornsberg.org
SUMMARY:Föräldrarmöte - Kårläger 2026
DESCRIPTION:Join with Google Meet: https://meet.google.com/njo-qpsz-kyb\nOr dial: (SE) +46 8 505 450 54 PIN: 843485392#\nMore phone numbers: https://tel.meet/njo-qpsz-kyb?pin=6766201043495&hs=7\nLearn more about Meet at: https://support.google.com/a/users/answer/9282720
URL:https://www.ornsberg.org/kalender/foraldrarmote-karlager-2026/
CATEGORIES:Kåren
END:VEVENT
END:VCALENDAR